BEGIN:VCALENDAR
VERSION:2.0
PRODID:-//Doha Fellowship - ECPv6.15.16.1//NONSGML v1.0//EN
CALSCALE:GREGORIAN
METHOD:PUBLISH
X-WR-CALNAME:Doha Fellowship
X-ORIGINAL-URL:https://www.dohafellowship.com
X-WR-CALDESC:Events for Doha Fellowship
REFRESH-INTERVAL;VALUE=DURATION:PT1H
X-Robots-Tag:noindex
X-PUBLISHED-TTL:PT1H
BEGIN:VTIMEZONE
TZID:Europe/Moscow
BEGIN:STANDARD
TZOFFSETFROM:+0300
TZOFFSETTO:+0300
TZNAME:MSK
DTSTART:20250101T000000
END:STANDARD
END:VTIMEZONE
BEGIN:VEVENT
DTSTART;TZID=Europe/Moscow:20260423T190000
DTEND;TZID=Europe/Moscow:20260423T210000
DTSTAMP:20260420T015133
CREATED:20260226T093725Z
LAST-MODIFIED:20260319T002719Z
UID:10000034-1776970800-1776978000@www.dohafellowship.com
SUMMARY:Thursday Service
DESCRIPTION:[vc_row][vc_column][vc_column_text css=””] \nBecause this is our busiest service\, please try to arrive at least 30 minutes early to secure a seat in the main hall.\nFor everyone’s safety\, the gates close 15 minutes after the service begins\, so we’re unable to admit latecomers. Thank you\, and we look forward to welcoming you!\n[/vc_column_text][/vc_column][/vc_row]
URL:https://www.dohafellowship.com/event/thursday-service/2026-04-23/
END:VEVENT
BEGIN:VEVENT
DTSTART;TZID=Europe/Moscow:20260430T190000
DTEND;TZID=Europe/Moscow:20260430T210000
DTSTAMP:20260420T015133
CREATED:20260226T093725Z
LAST-MODIFIED:20260319T002719Z
UID:10000035-1777575600-1777582800@www.dohafellowship.com
SUMMARY:Thursday Service
DESCRIPTION:[vc_row][vc_column][vc_column_text css=””] \nBecause this is our busiest service\, please try to arrive at least 30 minutes early to secure a seat in the main hall.\nFor everyone’s safety\, the gates close 15 minutes after the service begins\, so we’re unable to admit latecomers. Thank you\, and we look forward to welcoming you!\n[/vc_column_text][/vc_column][/vc_row]
URL:https://www.dohafellowship.com/event/thursday-service/2026-04-30/
END:VEVENT
BEGIN:VEVENT
DTSTART;TZID=Europe/Moscow:20260507T190000
DTEND;TZID=Europe/Moscow:20260507T210000
DTSTAMP:20260420T015133
CREATED:20260226T093725Z
LAST-MODIFIED:20260319T002719Z
UID:10000036-1778180400-1778187600@www.dohafellowship.com
SUMMARY:Thursday Service
DESCRIPTION:[vc_row][vc_column][vc_column_text css=””] \nBecause this is our busiest service\, please try to arrive at least 30 minutes early to secure a seat in the main hall.\nFor everyone’s safety\, the gates close 15 minutes after the service begins\, so we’re unable to admit latecomers. Thank you\, and we look forward to welcoming you!\n[/vc_column_text][/vc_column][/vc_row]
URL:https://www.dohafellowship.com/event/thursday-service/2026-05-07/
END:VEVENT
BEGIN:VEVENT
DTSTART;TZID=Europe/Moscow:20260514T190000
DTEND;TZID=Europe/Moscow:20260514T210000
DTSTAMP:20260420T015133
CREATED:20260226T093725Z
LAST-MODIFIED:20260319T002719Z
UID:10000037-1778785200-1778792400@www.dohafellowship.com
SUMMARY:Thursday Service
DESCRIPTION:[vc_row][vc_column][vc_column_text css=””] \nBecause this is our busiest service\, please try to arrive at least 30 minutes early to secure a seat in the main hall.\nFor everyone’s safety\, the gates close 15 minutes after the service begins\, so we’re unable to admit latecomers. Thank you\, and we look forward to welcoming you!\n[/vc_column_text][/vc_column][/vc_row]
URL:https://www.dohafellowship.com/event/thursday-service/2026-05-14/
END:VEVENT
BEGIN:VEVENT
DTSTART;TZID=Europe/Moscow:20260521T190000
DTEND;TZID=Europe/Moscow:20260521T210000
DTSTAMP:20260420T015133
CREATED:20260226T093725Z
LAST-MODIFIED:20260319T002719Z
UID:10000038-1779390000-1779397200@www.dohafellowship.com
SUMMARY:Thursday Service
DESCRIPTION:[vc_row][vc_column][vc_column_text css=””] \nBecause this is our busiest service\, please try to arrive at least 30 minutes early to secure a seat in the main hall.\nFor everyone’s safety\, the gates close 15 minutes after the service begins\, so we’re unable to admit latecomers. Thank you\, and we look forward to welcoming you!\n[/vc_column_text][/vc_column][/vc_row]
URL:https://www.dohafellowship.com/event/thursday-service/2026-05-21/
END:VEVENT
BEGIN:VEVENT
DTSTART;TZID=Europe/Moscow:20260528T190000
DTEND;TZID=Europe/Moscow:20260528T210000
DTSTAMP:20260420T015133
CREATED:20260226T093725Z
LAST-MODIFIED:20260319T002719Z
UID:10000039-1779994800-1780002000@www.dohafellowship.com
SUMMARY:Thursday Service
DESCRIPTION:[vc_row][vc_column][vc_column_text css=””] \nBecause this is our busiest service\, please try to arrive at least 30 minutes early to secure a seat in the main hall.\nFor everyone’s safety\, the gates close 15 minutes after the service begins\, so we’re unable to admit latecomers. Thank you\, and we look forward to welcoming you!\n[/vc_column_text][/vc_column][/vc_row]
URL:https://www.dohafellowship.com/event/thursday-service/2026-05-28/
END:VEVENT
BEGIN:VEVENT
DTSTART;TZID=Europe/Moscow:20260604T190000
DTEND;TZID=Europe/Moscow:20260604T210000
DTSTAMP:20260420T015133
CREATED:20260226T093725Z
LAST-MODIFIED:20260319T002719Z
UID:10000040-1780599600-1780606800@www.dohafellowship.com
SUMMARY:Thursday Service
DESCRIPTION:[vc_row][vc_column][vc_column_text css=””] \nBecause this is our busiest service\, please try to arrive at least 30 minutes early to secure a seat in the main hall.\nFor everyone’s safety\, the gates close 15 minutes after the service begins\, so we’re unable to admit latecomers. Thank you\, and we look forward to welcoming you!\n[/vc_column_text][/vc_column][/vc_row]
URL:https://www.dohafellowship.com/event/thursday-service/2026-06-04/
END:VEVENT
BEGIN:VEVENT
DTSTART;TZID=Europe/Moscow:20260611T190000
DTEND;TZID=Europe/Moscow:20260611T210000
DTSTAMP:20260420T015133
CREATED:20260226T093725Z
LAST-MODIFIED:20260319T002719Z
UID:10000041-1781204400-1781211600@www.dohafellowship.com
SUMMARY:Thursday Service
DESCRIPTION:[vc_row][vc_column][vc_column_text css=””] \nBecause this is our busiest service\, please try to arrive at least 30 minutes early to secure a seat in the main hall.\nFor everyone’s safety\, the gates close 15 minutes after the service begins\, so we’re unable to admit latecomers. Thank you\, and we look forward to welcoming you!\n[/vc_column_text][/vc_column][/vc_row]
URL:https://www.dohafellowship.com/event/thursday-service/2026-06-11/
END:VEVENT
BEGIN:VEVENT
DTSTART;TZID=Europe/Moscow:20260618T190000
DTEND;TZID=Europe/Moscow:20260618T210000
DTSTAMP:20260420T015133
CREATED:20260226T093725Z
LAST-MODIFIED:20260319T002719Z
UID:10000042-1781809200-1781816400@www.dohafellowship.com
SUMMARY:Thursday Service
DESCRIPTION:[vc_row][vc_column][vc_column_text css=””] \nBecause this is our busiest service\, please try to arrive at least 30 minutes early to secure a seat in the main hall.\nFor everyone’s safety\, the gates close 15 minutes after the service begins\, so we’re unable to admit latecomers. Thank you\, and we look forward to welcoming you!\n[/vc_column_text][/vc_column][/vc_row]
URL:https://www.dohafellowship.com/event/thursday-service/2026-06-18/
END:VEVENT
BEGIN:VEVENT
DTSTART;TZID=Europe/Moscow:20260625T190000
DTEND;TZID=Europe/Moscow:20260625T210000
DTSTAMP:20260420T015133
CREATED:20260226T093725Z
LAST-MODIFIED:20260319T002719Z
UID:10000043-1782414000-1782421200@www.dohafellowship.com
SUMMARY:Thursday Service
DESCRIPTION:[vc_row][vc_column][vc_column_text css=””] \nBecause this is our busiest service\, please try to arrive at least 30 minutes early to secure a seat in the main hall.\nFor everyone’s safety\, the gates close 15 minutes after the service begins\, so we’re unable to admit latecomers. Thank you\, and we look forward to welcoming you!\n[/vc_column_text][/vc_column][/vc_row]
URL:https://www.dohafellowship.com/event/thursday-service/2026-06-25/
END:VEVENT
BEGIN:VEVENT
DTSTART;TZID=Europe/Moscow:20260702T190000
DTEND;TZID=Europe/Moscow:20260702T210000
DTSTAMP:20260420T015133
CREATED:20260226T093725Z
LAST-MODIFIED:20260319T002719Z
UID:10000044-1783018800-1783026000@www.dohafellowship.com
SUMMARY:Thursday Service
DESCRIPTION:[vc_row][vc_column][vc_column_text css=””] \nBecause this is our busiest service\, please try to arrive at least 30 minutes early to secure a seat in the main hall.\nFor everyone’s safety\, the gates close 15 minutes after the service begins\, so we’re unable to admit latecomers. Thank you\, and we look forward to welcoming you!\n[/vc_column_text][/vc_column][/vc_row]
URL:https://www.dohafellowship.com/event/thursday-service/2026-07-02/
END:VEVENT
BEGIN:VEVENT
DTSTART;TZID=Europe/Moscow:20260709T190000
DTEND;TZID=Europe/Moscow:20260709T210000
DTSTAMP:20260420T015133
CREATED:20260226T093725Z
LAST-MODIFIED:20260319T002719Z
UID:10000045-1783623600-1783630800@www.dohafellowship.com
SUMMARY:Thursday Service
DESCRIPTION:[vc_row][vc_column][vc_column_text css=””] \nBecause this is our busiest service\, please try to arrive at least 30 minutes early to secure a seat in the main hall.\nFor everyone’s safety\, the gates close 15 minutes after the service begins\, so we’re unable to admit latecomers. Thank you\, and we look forward to welcoming you!\n[/vc_column_text][/vc_column][/vc_row]
URL:https://www.dohafellowship.com/event/thursday-service/2026-07-09/
END:VEVENT
BEGIN:VEVENT
DTSTART;TZID=Europe/Moscow:20260716T190000
DTEND;TZID=Europe/Moscow:20260716T210000
DTSTAMP:20260420T015133
CREATED:20260226T093725Z
LAST-MODIFIED:20260319T002719Z
UID:10000046-1784228400-1784235600@www.dohafellowship.com
SUMMARY:Thursday Service
DESCRIPTION:[vc_row][vc_column][vc_column_text css=””] \nBecause this is our busiest service\, please try to arrive at least 30 minutes early to secure a seat in the main hall.\nFor everyone’s safety\, the gates close 15 minutes after the service begins\, so we’re unable to admit latecomers. Thank you\, and we look forward to welcoming you!\n[/vc_column_text][/vc_column][/vc_row]
URL:https://www.dohafellowship.com/event/thursday-service/2026-07-16/
END:VEVENT
BEGIN:VEVENT
DTSTART;TZID=Europe/Moscow:20260723T190000
DTEND;TZID=Europe/Moscow:20260723T210000
DTSTAMP:20260420T015133
CREATED:20260226T093725Z
LAST-MODIFIED:20260319T002719Z
UID:10000047-1784833200-1784840400@www.dohafellowship.com
SUMMARY:Thursday Service
DESCRIPTION:[vc_row][vc_column][vc_column_text css=””] \nBecause this is our busiest service\, please try to arrive at least 30 minutes early to secure a seat in the main hall.\nFor everyone’s safety\, the gates close 15 minutes after the service begins\, so we’re unable to admit latecomers. Thank you\, and we look forward to welcoming you!\n[/vc_column_text][/vc_column][/vc_row]
URL:https://www.dohafellowship.com/event/thursday-service/2026-07-23/
END:VEVENT
BEGIN:VEVENT
DTSTART;TZID=Europe/Moscow:20260730T190000
DTEND;TZID=Europe/Moscow:20260730T210000
DTSTAMP:20260420T015133
CREATED:20260226T093725Z
LAST-MODIFIED:20260319T002719Z
UID:10000048-1785438000-1785445200@www.dohafellowship.com
SUMMARY:Thursday Service
DESCRIPTION:[vc_row][vc_column][vc_column_text css=””] \nBecause this is our busiest service\, please try to arrive at least 30 minutes early to secure a seat in the main hall.\nFor everyone’s safety\, the gates close 15 minutes after the service begins\, so we’re unable to admit latecomers. Thank you\, and we look forward to welcoming you!\n[/vc_column_text][/vc_column][/vc_row]
URL:https://www.dohafellowship.com/event/thursday-service/2026-07-30/
END:VEVENT
BEGIN:VEVENT
DTSTART;TZID=Europe/Moscow:20260806T190000
DTEND;TZID=Europe/Moscow:20260806T210000
DTSTAMP:20260420T015133
CREATED:20260226T093725Z
LAST-MODIFIED:20260319T002719Z
UID:10000049-1786042800-1786050000@www.dohafellowship.com
SUMMARY:Thursday Service
DESCRIPTION:[vc_row][vc_column][vc_column_text css=””] \nBecause this is our busiest service\, please try to arrive at least 30 minutes early to secure a seat in the main hall.\nFor everyone’s safety\, the gates close 15 minutes after the service begins\, so we’re unable to admit latecomers. Thank you\, and we look forward to welcoming you!\n[/vc_column_text][/vc_column][/vc_row]
URL:https://www.dohafellowship.com/event/thursday-service/2026-08-06/
END:VEVENT
BEGIN:VEVENT
DTSTART;TZID=Europe/Moscow:20260813T190000
DTEND;TZID=Europe/Moscow:20260813T210000
DTSTAMP:20260420T015133
CREATED:20260226T093725Z
LAST-MODIFIED:20260319T002719Z
UID:10000050-1786647600-1786654800@www.dohafellowship.com
SUMMARY:Thursday Service
DESCRIPTION:[vc_row][vc_column][vc_column_text css=””] \nBecause this is our busiest service\, please try to arrive at least 30 minutes early to secure a seat in the main hall.\nFor everyone’s safety\, the gates close 15 minutes after the service begins\, so we’re unable to admit latecomers. Thank you\, and we look forward to welcoming you!\n[/vc_column_text][/vc_column][/vc_row]
URL:https://www.dohafellowship.com/event/thursday-service/2026-08-13/
END:VEVENT
BEGIN:VEVENT
DTSTART;TZID=Europe/Moscow:20260820T190000
DTEND;TZID=Europe/Moscow:20260820T210000
DTSTAMP:20260420T015133
CREATED:20260226T093725Z
LAST-MODIFIED:20260319T002719Z
UID:10000051-1787252400-1787259600@www.dohafellowship.com
SUMMARY:Thursday Service
DESCRIPTION:[vc_row][vc_column][vc_column_text css=””] \nBecause this is our busiest service\, please try to arrive at least 30 minutes early to secure a seat in the main hall.\nFor everyone’s safety\, the gates close 15 minutes after the service begins\, so we’re unable to admit latecomers. Thank you\, and we look forward to welcoming you!\n[/vc_column_text][/vc_column][/vc_row]
URL:https://www.dohafellowship.com/event/thursday-service/2026-08-20/
END:VEVENT
BEGIN:VEVENT
DTSTART;TZID=Europe/Moscow:20260827T190000
DTEND;TZID=Europe/Moscow:20260827T210000
DTSTAMP:20260420T015133
CREATED:20260226T093725Z
LAST-MODIFIED:20260319T002719Z
UID:10000052-1787857200-1787864400@www.dohafellowship.com
SUMMARY:Thursday Service
DESCRIPTION:[vc_row][vc_column][vc_column_text css=””] \nBecause this is our busiest service\, please try to arrive at least 30 minutes early to secure a seat in the main hall.\nFor everyone’s safety\, the gates close 15 minutes after the service begins\, so we’re unable to admit latecomers. Thank you\, and we look forward to welcoming you!\n[/vc_column_text][/vc_column][/vc_row]
URL:https://www.dohafellowship.com/event/thursday-service/2026-08-27/
END:VEVENT
BEGIN:VEVENT
DTSTART;TZID=Europe/Moscow:20260903T190000
DTEND;TZID=Europe/Moscow:20260903T210000
DTSTAMP:20260420T015133
CREATED:20260226T093725Z
LAST-MODIFIED:20260319T002719Z
UID:10000053-1788462000-1788469200@www.dohafellowship.com
SUMMARY:Thursday Service
DESCRIPTION:[vc_row][vc_column][vc_column_text css=””] \nBecause this is our busiest service\, please try to arrive at least 30 minutes early to secure a seat in the main hall.\nFor everyone’s safety\, the gates close 15 minutes after the service begins\, so we’re unable to admit latecomers. Thank you\, and we look forward to welcoming you!\n[/vc_column_text][/vc_column][/vc_row]
URL:https://www.dohafellowship.com/event/thursday-service/2026-09-03/
END:VEVENT
BEGIN:VEVENT
DTSTART;TZID=Europe/Moscow:20260910T190000
DTEND;TZID=Europe/Moscow:20260910T210000
DTSTAMP:20260420T015133
CREATED:20260226T093725Z
LAST-MODIFIED:20260319T002719Z
UID:10000054-1789066800-1789074000@www.dohafellowship.com
SUMMARY:Thursday Service
DESCRIPTION:[vc_row][vc_column][vc_column_text css=””] \nBecause this is our busiest service\, please try to arrive at least 30 minutes early to secure a seat in the main hall.\nFor everyone’s safety\, the gates close 15 minutes after the service begins\, so we’re unable to admit latecomers. Thank you\, and we look forward to welcoming you!\n[/vc_column_text][/vc_column][/vc_row]
URL:https://www.dohafellowship.com/event/thursday-service/2026-09-10/
END:VEVENT
BEGIN:VEVENT
DTSTART;TZID=Europe/Moscow:20260917T190000
DTEND;TZID=Europe/Moscow:20260917T210000
DTSTAMP:20260420T015133
CREATED:20260226T093725Z
LAST-MODIFIED:20260319T002719Z
UID:10000055-1789671600-1789678800@www.dohafellowship.com
SUMMARY:Thursday Service
DESCRIPTION:[vc_row][vc_column][vc_column_text css=””] \nBecause this is our busiest service\, please try to arrive at least 30 minutes early to secure a seat in the main hall.\nFor everyone’s safety\, the gates close 15 minutes after the service begins\, so we’re unable to admit latecomers. Thank you\, and we look forward to welcoming you!\n[/vc_column_text][/vc_column][/vc_row]
URL:https://www.dohafellowship.com/event/thursday-service/2026-09-17/
END:VEVENT
BEGIN:VEVENT
DTSTART;TZID=Europe/Moscow:20260924T190000
DTEND;TZID=Europe/Moscow:20260924T210000
DTSTAMP:20260420T015133
CREATED:20260226T093725Z
LAST-MODIFIED:20260319T002719Z
UID:10000056-1790276400-1790283600@www.dohafellowship.com
SUMMARY:Thursday Service
DESCRIPTION:[vc_row][vc_column][vc_column_text css=””] \nBecause this is our busiest service\, please try to arrive at least 30 minutes early to secure a seat in the main hall.\nFor everyone’s safety\, the gates close 15 minutes after the service begins\, so we’re unable to admit latecomers. Thank you\, and we look forward to welcoming you!\n[/vc_column_text][/vc_column][/vc_row]
URL:https://www.dohafellowship.com/event/thursday-service/2026-09-24/
END:VEVENT
BEGIN:VEVENT
DTSTART;TZID=Europe/Moscow:20261001T190000
DTEND;TZID=Europe/Moscow:20261001T210000
DTSTAMP:20260420T015133
CREATED:20260226T093725Z
LAST-MODIFIED:20260319T002719Z
UID:10000057-1790881200-1790888400@www.dohafellowship.com
SUMMARY:Thursday Service
DESCRIPTION:[vc_row][vc_column][vc_column_text css=””] \nBecause this is our busiest service\, please try to arrive at least 30 minutes early to secure a seat in the main hall.\nFor everyone’s safety\, the gates close 15 minutes after the service begins\, so we’re unable to admit latecomers. Thank you\, and we look forward to welcoming you!\n[/vc_column_text][/vc_column][/vc_row]
URL:https://www.dohafellowship.com/event/thursday-service/2026-10-01/
END:VEVENT
BEGIN:VEVENT
DTSTART;TZID=Europe/Moscow:20261008T190000
DTEND;TZID=Europe/Moscow:20261008T210000
DTSTAMP:20260420T015133
CREATED:20260226T093725Z
LAST-MODIFIED:20260319T002719Z
UID:10000058-1791486000-1791493200@www.dohafellowship.com
SUMMARY:Thursday Service
DESCRIPTION:[vc_row][vc_column][vc_column_text css=””] \nBecause this is our busiest service\, please try to arrive at least 30 minutes early to secure a seat in the main hall.\nFor everyone’s safety\, the gates close 15 minutes after the service begins\, so we’re unable to admit latecomers. Thank you\, and we look forward to welcoming you!\n[/vc_column_text][/vc_column][/vc_row]
URL:https://www.dohafellowship.com/event/thursday-service/2026-10-08/
END:VEVENT
BEGIN:VEVENT
DTSTART;TZID=Europe/Moscow:20261015T190000
DTEND;TZID=Europe/Moscow:20261015T210000
DTSTAMP:20260420T015133
CREATED:20260226T093725Z
LAST-MODIFIED:20260319T002719Z
UID:10000059-1792090800-1792098000@www.dohafellowship.com
SUMMARY:Thursday Service
DESCRIPTION:[vc_row][vc_column][vc_column_text css=””] \nBecause this is our busiest service\, please try to arrive at least 30 minutes early to secure a seat in the main hall.\nFor everyone’s safety\, the gates close 15 minutes after the service begins\, so we’re unable to admit latecomers. Thank you\, and we look forward to welcoming you!\n[/vc_column_text][/vc_column][/vc_row]
URL:https://www.dohafellowship.com/event/thursday-service/2026-10-15/
END:VEVENT
BEGIN:VEVENT
DTSTART;TZID=Europe/Moscow:20261022T190000
DTEND;TZID=Europe/Moscow:20261022T210000
DTSTAMP:20260420T015133
CREATED:20260226T093725Z
LAST-MODIFIED:20260319T002719Z
UID:10000060-1792695600-1792702800@www.dohafellowship.com
SUMMARY:Thursday Service
DESCRIPTION:[vc_row][vc_column][vc_column_text css=””] \nBecause this is our busiest service\, please try to arrive at least 30 minutes early to secure a seat in the main hall.\nFor everyone’s safety\, the gates close 15 minutes after the service begins\, so we’re unable to admit latecomers. Thank you\, and we look forward to welcoming you!\n[/vc_column_text][/vc_column][/vc_row]
URL:https://www.dohafellowship.com/event/thursday-service/2026-10-22/
END:VEVENT
BEGIN:VEVENT
DTSTART;TZID=Europe/Moscow:20261029T190000
DTEND;TZID=Europe/Moscow:20261029T210000
DTSTAMP:20260420T015133
CREATED:20260226T093725Z
LAST-MODIFIED:20260319T002719Z
UID:10000061-1793300400-1793307600@www.dohafellowship.com
SUMMARY:Thursday Service
DESCRIPTION:[vc_row][vc_column][vc_column_text css=””] \nBecause this is our busiest service\, please try to arrive at least 30 minutes early to secure a seat in the main hall.\nFor everyone’s safety\, the gates close 15 minutes after the service begins\, so we’re unable to admit latecomers. Thank you\, and we look forward to welcoming you!\n[/vc_column_text][/vc_column][/vc_row]
URL:https://www.dohafellowship.com/event/thursday-service/2026-10-29/
END:VEVENT
BEGIN:VEVENT
DTSTART;TZID=Europe/Moscow:20261105T190000
DTEND;TZID=Europe/Moscow:20261105T210000
DTSTAMP:20260420T015133
CREATED:20260226T093725Z
LAST-MODIFIED:20260319T002719Z
UID:10000062-1793905200-1793912400@www.dohafellowship.com
SUMMARY:Thursday Service
DESCRIPTION:[vc_row][vc_column][vc_column_text css=””] \nBecause this is our busiest service\, please try to arrive at least 30 minutes early to secure a seat in the main hall.\nFor everyone’s safety\, the gates close 15 minutes after the service begins\, so we’re unable to admit latecomers. Thank you\, and we look forward to welcoming you!\n[/vc_column_text][/vc_column][/vc_row]
URL:https://www.dohafellowship.com/event/thursday-service/2026-11-05/
END:VEVENT
BEGIN:VEVENT
DTSTART;TZID=Europe/Moscow:20261112T190000
DTEND;TZID=Europe/Moscow:20261112T210000
DTSTAMP:20260420T015133
CREATED:20260226T093725Z
LAST-MODIFIED:20260319T002719Z
UID:10000063-1794510000-1794517200@www.dohafellowship.com
SUMMARY:Thursday Service
DESCRIPTION:[vc_row][vc_column][vc_column_text css=””] \nBecause this is our busiest service\, please try to arrive at least 30 minutes early to secure a seat in the main hall.\nFor everyone’s safety\, the gates close 15 minutes after the service begins\, so we’re unable to admit latecomers. Thank you\, and we look forward to welcoming you!\n[/vc_column_text][/vc_column][/vc_row]
URL:https://www.dohafellowship.com/event/thursday-service/2026-11-12/
END:VEVENT
END:VCALENDAR