BEGIN:VCALENDAR
VERSION:2.0
PRODID:-//Doha Fellowship - ECPv6.15.16.1//NONSGML v1.0//EN
CALSCALE:GREGORIAN
METHOD:PUBLISH
X-WR-CALNAME:Doha Fellowship
X-ORIGINAL-URL:https://www.dohafellowship.com
X-WR-CALDESC:Events for Doha Fellowship
REFRESH-INTERVAL;VALUE=DURATION:PT1H
X-Robots-Tag:noindex
X-PUBLISHED-TTL:PT1H
BEGIN:VTIMEZONE
TZID:Europe/Moscow
BEGIN:STANDARD
TZOFFSETFROM:+0300
TZOFFSETTO:+0300
TZNAME:MSK
DTSTART:20250101T000000
END:STANDARD
END:VTIMEZONE
BEGIN:VEVENT
DTSTART;TZID=Europe/Moscow:20260301T190000
DTEND;TZID=Europe/Moscow:20260301T210000
DTSTAMP:20260419T223131
CREATED:20260222T062656Z
LAST-MODIFIED:20260301T072018Z
UID:6347-1772391600-1772398800@www.dohafellowship.com
SUMMARY:CANCELLED - R.T. Kendall
DESCRIPTION:[vc_row][vc_column][vc_column_text css=””] \nUPDATE:\nAs a result of the attacks\, we have decided that it is the wise thing to do\, to not have the last RT meeting tonight. It won’t be good to gather in large numbers at this moment. It has been a fabulous week\, and we are putting all the teachings together to upload shortly. We will add tonight’s planned sermon as well\, as he has preached and recorded it previously in another context.\n[/vc_column_text][/vc_column][/vc_row]
URL:https://www.dohafellowship.com/event/r-t-kendall-7/
ATTACH;FMTTYPE=image/jpeg:https://www.dohafellowship.com/wp-content/uploads/sites/3/2026/01/RT.jpg
END:VEVENT
END:VCALENDAR