BEGIN:VCALENDAR
VERSION:2.0
PRODID:-//Doha Fellowship - ECPv6.15.16.1//NONSGML v1.0//EN
CALSCALE:GREGORIAN
METHOD:PUBLISH
X-WR-CALNAME:Doha Fellowship
X-ORIGINAL-URL:https://www.dohafellowship.com
X-WR-CALDESC:Events for Doha Fellowship
REFRESH-INTERVAL;VALUE=DURATION:PT1H
X-Robots-Tag:noindex
X-PUBLISHED-TTL:PT1H
BEGIN:VTIMEZONE
TZID:Europe/Moscow
BEGIN:STANDARD
TZOFFSETFROM:+0300
TZOFFSETTO:+0300
TZNAME:MSK
DTSTART:20250101T000000
END:STANDARD
END:VTIMEZONE
BEGIN:VEVENT
DTSTART;TZID=Europe/Moscow:20260313T100000
DTEND;TZID=Europe/Moscow:20260313T130000
DTSTAMP:20260420T043707
CREATED:20260311T181451Z
LAST-MODIFIED:20260311T181452Z
UID:6505-1773396000-1773406800@www.dohafellowship.com
SUMMARY:Friday Service (with Livestream)
DESCRIPTION:[vc_row][vc_column][vc_column_text css=””] \nOur second Friday service is very popular\, so please arrive early to reserve a seat in the main hall.\nIf you can’t attend in person\, the service is streamed live and will be added to our media gallery afterward.\nFor everyone’s safety\, gates close 15 minutes after the service begins\, and we’re unable to admit late arrivals. We look forward to welcoming you!\n[/vc_column_text][/vc_column][/vc_row]
URL:https://www.dohafellowship.com/event/6401-2/
ATTACH;FMTTYPE=image/jpeg:https://www.dohafellowship.com/wp-content/uploads/sites/3/2026/02/DF-01.jpg
END:VEVENT
END:VCALENDAR